BEGIN:VCALENDAR
VERSION:2.0
PRODID:-//Custom Calendar//EN
BEGIN:VEVENT
UID:event-987511343@www.realtyline.us
DTSTART:20260512T110000
DTEND:20260512T130000
SUMMARY:Gov't Relations Committee (GRC) & Building Officials Roundtable
LOCATION:Home Builders Association (HBA) of Greater Austin
DESCRIPTION:Be in the&nbsp;Know&nbsp;&amp; Help our Builders Keep Building



Meetings:&nbsp;Open&nbsp;to all HBA Builder, Developer and Supplier MembersDate:&nbsp;GRC meets the 2nd Tuesday of the month &amp; Bui
END:VEVENT
END:VCALENDAR
