BEGIN:VCALENDAR
VERSION:2.0
PRODID:-//Custom Calendar//EN
BEGIN:VEVENT
UID:event-987511344@www.realtyline.us
DTSTART:20260513T110000
DTEND:20260513T130000
SUMMARY:Sales & Marketing Council (SMC)
LOCATION:Virtual Meeting - Microsoft Teams - See Email Confirmation
DESCRIPTION:The Sales &amp; Marketing Council (SMC)&nbsp;is dedicated to promoting the practice and professionalism of sales &amp; marketing in the home building industry. This council is affiliated with councils
END:VEVENT
END:VCALENDAR
