BEGIN:VCALENDAR
VERSION:2.0
PRODID:-//Custom Calendar//EN
BEGIN:VEVENT
UID:event-987511345@www.realtyline.us
DTSTART:20260514T170000
DTEND:20260514T170000
SUMMARY:Custom Builders & Remodelers Council
LOCATION:TBD - Jobsite
END:VEVENT
END:VCALENDAR
