BEGIN:VCALENDAR
VERSION:2.0
PRODID:-//Custom Calendar//EN
BEGIN:VEVENT
UID:event-987511348@www.realtyline.us
DTSTART:20260611T170000
DTEND:20260611T170000
SUMMARY:Custom Builders & Remodelers Council
LOCATION:Home Builders Association (HBA) of Greater Austin Classroom
END:VEVENT
END:VCALENDAR
