BEGIN:VCALENDAR
VERSION:2.0
PRODID:-//Custom Calendar//EN
BEGIN:VEVENT
UID:event-987511349@www.realtyline.us
DTSTART:20260623T170000
DTEND:20260624T170000
SUMMARY:Project Management Bootcamp
LOCATION:Home Builders Association (HBA) of Greater Austin
END:VEVENT
END:VCALENDAR
