BEGIN:VCALENDAR
VERSION:2.0
PRODID:-//Custom Calendar//EN
BEGIN:VEVENT
UID:event-987511352@www.realtyline.us
DTSTART:20260811T170000
DTEND:20260811T170000
SUMMARY:Gov't Relations Committee (GRC) & Building Officials Roundtable
LOCATION:7800 Shoal Creek Boulevard, Austin, TX, 78757
END:VEVENT
END:VCALENDAR
