BEGIN:VCALENDAR
VERSION:2.0
PRODID:-//Custom Calendar//EN
BEGIN:VEVENT
UID:event-987511354@www.realtyline.us
DTSTART:20260812T170000
DTEND:20260812T170000
SUMMARY:Microsoft Excel 101 - Functions, Formulas and Fun!
LOCATION:Home Builders Association of Greater Austin (HBAGA)
END:VEVENT
END:VCALENDAR
