BEGIN:VCALENDAR
VERSION:2.0
PRODID:-//Custom Calendar//EN
BEGIN:VEVENT
UID:event-987511355@www.realtyline.us
DTSTART:20260813T170000
DTEND:20260813T170000
SUMMARY:Custom Builders & Remodelers Council
LOCATION:Wilson AC & Appliance Showroom
END:VEVENT
END:VCALENDAR
