BEGIN:VCALENDAR
VERSION:2.0
PRODID:-//Custom Calendar//EN
BEGIN:VEVENT
UID:event-987511356@www.realtyline.us
DTSTART:20260820T170000
DTEND:20260820T170000
SUMMARY:Sponsorships - Mid Year Housing Forecast
END:VEVENT
END:VCALENDAR
