BEGIN:VCALENDAR
VERSION:2.0
PRODID:-//Custom Calendar//EN
BEGIN:VEVENT
UID:event-987511357@www.realtyline.us
DTSTART:20260908T230300
DTEND:20260908T130000
SUMMARY:Gov't Relations Committee (GRC) + Planning & Development Roundtable
LOCATION:Home Builders Association (HBA) of Greater Austin
DESCRIPTION:Meetings:&nbsp;Open&nbsp;to all HBA Builder, Developer and Supplier MembersDate:&nbsp;GRC meets the 2nd Tuesday of the month + Planning &amp; Development Roundtable is held quarterly (March, June, Sep
END:VEVENT
END:VCALENDAR
