BEGIN:VCALENDAR
VERSION:2.0
PRODID:-//Custom Calendar//EN
BEGIN:VEVENT
UID:event-987511359@www.realtyline.us
DTSTART:20260910T170000
DTEND:20260910T170000
SUMMARY:Custom Builders & Remodelers Council
LOCATION:Facets Showroom
END:VEVENT
END:VCALENDAR
