BEGIN:VCALENDAR
VERSION:2.0
PRODID:-//Custom Calendar//EN
BEGIN:VEVENT
UID:event-987511360@www.realtyline.us
DTSTART:20260923T170000
DTEND:20260923T170000
SUMMARY:Sponsorships - Business Exchange (SOLD OUT)
LOCATION:Austin Board of Realtors
END:VEVENT
END:VCALENDAR
