BEGIN:VCALENDAR
VERSION:2.0
PRODID:-//Custom Calendar//EN
BEGIN:VEVENT
UID:event-987511361@www.realtyline.us
DTSTART:20260924T170000
DTEND:20260924T170000
SUMMARY:Excited to Excel: Excel 201 - Beyond the Basics (Advanced)
LOCATION:Home Builders Association of Greater Austin (HBAGA)
END:VEVENT
END:VCALENDAR
