BEGIN:VCALENDAR
VERSION:2.0
PRODID:-//Custom Calendar//EN
BEGIN:VEVENT
UID:event-987511362@www.realtyline.us
DTSTART:20261001T170000
DTEND:20261001T170000
SUMMARY:Sponsorships - Land & Capital Summit (Date TBD in October)
END:VEVENT
END:VCALENDAR
