BEGIN:VCALENDAR
VERSION:2.0
PRODID:-//Custom Calendar//EN
BEGIN:VEVENT
UID:event-987511363@www.realtyline.us
DTSTART:20261008T170000
DTEND:20261008T170000
SUMMARY:Custom Builders & Remodelers Council
LOCATION:Ferguson Home
END:VEVENT
END:VCALENDAR
