BEGIN:VCALENDAR
VERSION:2.0
PRODID:-//Custom Calendar//EN
BEGIN:VEVENT
UID:event-987511364@www.realtyline.us
DTSTART:20261013T120000
DTEND:20261013T130000
SUMMARY:Government Relations Committee (GRC)
LOCATION:Home Builders Association (HBA) of Greater Austin
DESCRIPTION:Meetings:&nbsp;Open&nbsp;to all HBA Builder, Developer and Supplier MembersDate:&nbsp;GRC meets the 2nd Tuesday of the month&nbsp;Time:&nbsp; 12pm - 1pm



The Government Relations Committee (GRC) adv
END:VEVENT
END:VCALENDAR
