BEGIN:VCALENDAR
VERSION:2.0
PRODID:-//Custom Calendar//EN
BEGIN:VEVENT
UID:event-987511366@www.realtyline.us
DTSTART:20261016T170000
DTEND:20261016T170000
SUMMARY:Sponsorships - Golf Classic
LOCATION:TeraVista Golf Club
END:VEVENT
END:VCALENDAR
