BEGIN:VCALENDAR
VERSION:2.0
PRODID:-//Custom Calendar//EN
BEGIN:VEVENT
UID:event-987511369@www.realtyline.us
DTSTART:20261111T110000
DTEND:20261111T130000
SUMMARY:Sales & Marketing Council (SMC)
LOCATION:4800 Spicewood Springs Rd, Austin, TX 78759, USA
DESCRIPTION:The Sales &amp; Marketing Council (SMC)&nbsp;is dedicated to promoting the practice and professionalism of sales &amp; marketing in the home building industry. This council is affiliated with councils
END:VEVENT
END:VCALENDAR
