BEGIN:VCALENDAR
VERSION:2.0
PRODID:-//Custom Calendar//EN
BEGIN:VEVENT
UID:event-987511370@www.realtyline.us
DTSTART:20261112T113000
DTEND:20261112T130000
SUMMARY:Custom Builders & Remodelers Council Joint Meeting with CRAN
LOCATION:4800 Spicewood Springs Rd, Austin, TX 78759, USA
DESCRIPTION:THIS MONTH'S PROGRAM:&nbsp; Retrofitting Older Homes



***PLEASE NOTE***&nbsp;-&nbsp;THIS PROGRAM IS LIMITED TO HBA MEMBERSHIP TYPES OF:&nbsp;Builders, Interior Designers, Architects, and Engineers.&
END:VEVENT
END:VCALENDAR
