BEGIN:VCALENDAR
VERSION:2.0
PRODID:-//Custom Calendar//EN
BEGIN:VEVENT
UID:event-987511371@www.realtyline.us
DTSTART:20261208T113000
DTEND:20261208T130000
SUMMARY:Gov't Relations Committee (GRC) + Planning & Development Roundtable
LOCATION:4800 Spicewood Springs Rd, Austin, TX 78759, USA
DESCRIPTION:Meetings:&nbsp;Open&nbsp;to all HBA Builder, Developer and Supplier MembersDate:&nbsp;GRC meets the 2nd Tuesday of the month + Planning &amp; Development Roundtable is held quarterly (March, June, Sep
END:VEVENT
END:VCALENDAR
