BEGIN:VCALENDAR
VERSION:2.0
PRODID:-//Custom Calendar//EN
BEGIN:VEVENT
UID:event-987511387@www.realtyline.us
DTSTART:20261217T090000
DTEND:20261217T120000
SUMMARY:Introduction to Matrix
LOCATION:4800 Spicewood Springs Rd, Austin, TX 78759, USA
DESCRIPTION:Introduction to Matrix provides a platform of the basic knowledge needed to preform essential REALTOR® functions in the MLS. This class is designed to enhance your knowledge in the categories of sear
END:VEVENT
END:VCALENDAR
